BEGIN:VCALENDAR
VERSION:2.0
PRODID:-//Sabre//Sabre VObject 4.5.8//EN
CALSCALE:GREGORIAN
BEGIN:VEVENT
UID:sabre-vobject-685db106-200a-400f-a1c3-7b2fd006b645
DTSTAMP:20260419T165155Z
SUMMARY:Pfarrgottesdienst
DESCRIPTION:https://pg.aitrang-ruderatshofen.de/aktuelles/gottesdienste/pfa
 rrgottesdienst_id1711893
DTSTART;TZID=Europe/Berlin:20260419T090000
DURATION:PT30M
LOCATION:St. Jakobus maj.
END:VEVENT
END:VCALENDAR
