BEGIN:VCALENDAR
VERSION:2.0
PRODID:-//Sabre//Sabre VObject 4.5.8//EN
CALSCALE:GREGORIAN
BEGIN:VEVENT
UID:sabre-vobject-0c1f903c-ebe7-4cb3-89da-3d313a314709
DTSTAMP:20260419T120113Z
SUMMARY:Messfeier
DESCRIPTION:https://pg.aitrang-ruderatshofen.de/aktuelles/gottesdienste/mes
 sfeier_id1711889
DTSTART;TZID=Europe/Berlin:20260421T190000
DURATION:PT30M
LOCATION:St. Jakobus maj.
END:VEVENT
END:VCALENDAR
