BEGIN:VCALENDAR
VERSION:2.0
PRODID:-//Sabre//Sabre VObject 4.5.8//EN
CALSCALE:GREGORIAN
BEGIN:VEVENT
UID:sabre-vobject-46892ccf-d084-416a-8164-7cc4a2d0e0aa
DTSTAMP:20260419T151809Z
SUMMARY:Rosenkranz
DESCRIPTION:https://pg.aitrang-ruderatshofen.de/aktuelles/gottesdienste/ros
 enkranz_id1711888
DTSTART;TZID=Europe/Berlin:20260421T183000
DURATION:PT30M
LOCATION:St. Jakobus maj.
END:VEVENT
END:VCALENDAR
