BEGIN:VCALENDAR
VERSION:2.0
PRODID:-//Sabre//Sabre VObject 4.5.8//EN
CALSCALE:GREGORIAN
BEGIN:VEVENT
UID:sabre-vobject-feca00d3-7e05-4f74-ae55-92b7ae06baf5
DTSTAMP:20260419T120813Z
SUMMARY:Messfeier
DESCRIPTION:https://pg.aitrang-ruderatshofen.de/aktuelles/gottesdienste/mes
 sfeier_id1711881
DTSTART;TZID=Europe/Berlin:20260422T190000
DURATION:PT30M
LOCATION:St. Michael
END:VEVENT
END:VCALENDAR
