BEGIN:VCALENDAR
VERSION:2.0
PRODID:-//Sabre//Sabre VObject 4.5.8//EN
CALSCALE:GREGORIAN
BEGIN:VEVENT
UID:sabre-vobject-e082be83-ca7a-44b9-8b1b-d0defef13ddb
DTSTAMP:20260419T152041Z
SUMMARY:Taufe
DESCRIPTION:https://pg.aitrang-ruderatshofen.de/aktuelles/gottesdienste/tau
 fe_id1711880
DTSTART;TZID=Europe/Berlin:20260418T140000
DURATION:PT30M
LOCATION:St. Michael
END:VEVENT
END:VCALENDAR
