BEGIN:VCALENDAR
VERSION:2.0
PRODID:-//Sabre//Sabre VObject 4.5.8//EN
CALSCALE:GREGORIAN
BEGIN:VEVENT
UID:sabre-vobject-b194e834-eb05-42d0-b9ce-726906ab6bdb
DTSTAMP:20260419T165502Z
SUMMARY:Messfeier
DESCRIPTION:https://pg.aitrang-ruderatshofen.de/aktuelles/gottesdienste/mes
 sfeier_id1711879
DTSTART;TZID=Europe/Berlin:20260415T190000
DURATION:PT30M
LOCATION:St. Michael
END:VEVENT
END:VCALENDAR
